BEGIN:VCALENDAR
VERSION:2.0
PRODID:-//Le Sens du Vivant - ECPv6.15.17.1//NONSGML v1.0//EN
CALSCALE:GREGORIAN
METHOD:PUBLISH
X-ORIGINAL-URL:https://lesensduvivant.com
X-WR-CALDESC:Évènements pour Le Sens du Vivant
REFRESH-INTERVAL;VALUE=DURATION:PT1H
X-Robots-Tag:noindex
X-PUBLISHED-TTL:PT1H
BEGIN:VTIMEZONE
TZID:Europe/Paris
BEGIN:DAYLIGHT
TZOFFSETFROM:+0100
TZOFFSETTO:+0200
TZNAME:CEST
DTSTART:20220327T010000
END:DAYLIGHT
BEGIN:STANDARD
TZOFFSETFROM:+0200
TZOFFSETTO:+0100
TZNAME:CET
DTSTART:20221030T010000
END:STANDARD
BEGIN:DAYLIGHT
TZOFFSETFROM:+0100
TZOFFSETTO:+0200
TZNAME:CEST
DTSTART:20230326T010000
END:DAYLIGHT
BEGIN:STANDARD
TZOFFSETFROM:+0200
TZOFFSETTO:+0100
TZNAME:CET
DTSTART:20231029T010000
END:STANDARD
BEGIN:DAYLIGHT
TZOFFSETFROM:+0100
TZOFFSETTO:+0200
TZNAME:CEST
DTSTART:20240331T010000
END:DAYLIGHT
BEGIN:STANDARD
TZOFFSETFROM:+0200
TZOFFSETTO:+0100
TZNAME:CET
DTSTART:20241027T010000
END:STANDARD
END:VTIMEZONE
BEGIN:VEVENT
DTSTART;VALUE=DATE:20230708
DTEND;VALUE=DATE:20230710
DTSTAMP:20260425T124146
CREATED:20230530T123924Z
LAST-MODIFIED:20230626T085522Z
UID:111-1688774400-1688947199@lesensduvivant.com
SUMMARY:Stage de Pratiques Somatiques
DESCRIPTION:Stage de Pratique Somatiques\nCusy\, Haute-SavoieSamedi 8 juillet de 14h à 19h & Dimanche 9 juillet 2023 de 9h30 à 17h \n			\n				\n				\n				\n				\n				Avec les Pratiques Somatiques du Body-Mind Centering®\, d’Alexander Technic®\, du Mouvement Authentique et du Mouvement-Thérapie\, nous vous proposons de vivre une expérience du Corps en Mouvement pour se rendre à l’écoute de ses sensations\, les percevoir de plus en plus finement\, se vivre en relation\, trouver plus de clarté et de fluidité\, plus d’écoute et d’attention\, plus de dynamique et d’énergie\, plus d’ouverture à soi\, à l’autre et à l’environnement. \nVous pourrez rencontrer l’équipe de la formation Ouvertures Somatiques : \n			\n			\n				\n				\n				\n				\n			\n				\n				\n				\n				\n				\n				\n			\n				\n				\n				\n				\n				\n				\n				\n				\n				\n				\n			\n				\n				\n				\n				\n				Enseignante BMC® & MALaurence Vernay\,coordinatrice pédagogique de la Formation Certifiante Educateur.e Somatique \n			\n			\n				\n				\n				\n				\n				\n				\n				\n				\n				\n				\n			\n				\n				\n				\n				\n				Enseignante Alexander Technic®Elsa Rayet \n			\n			\n				\n				\n				\n				\n			\n				\n				\n				\n				\n				\n				\n				\n				\n				\n				\n				Tarifs \n\nEnseignement : 90 €\nPetit budget et inscription avant le 15 mai : 70 € \n\n			\n			\n				\n				\n				\n				\n				\n				\n				\n				\n				\n				Inscription\n\ncarpediem.contactimpro@gmail.com\nAcompte de 30 €\n\n \n			\n			\n				\n				\n				\n				\n				\n				\n				\n				\n				\n				Renseignements\n\nVirginie : 07 61 62 04 13
URL:https://lesensduvivant.com/programme/stage-de-pratiques-somatiques/
LOCATION:Cusy\, Haute-Savoie\, 74540\, France
CATEGORIES:Stages
ATTACH;FMTTYPE=image/jpeg:https://lesensduvivant.com/wp-content/uploads/2023/05/stage-pratiques-somatique-cusy.jpg
END:VEVENT
END:VCALENDAR